BEGIN:VCALENDAR
VERSION:2.0
PRODID:-//Tukios.com/
BEGIN:VEVENT
UID:e73cca0e-e67f-49f4-b2e4-f293175cbb6d@www.samaritanfunerals.com
DTSTAMP:20260422T233159Z
DTSTART:20260429T150000Z
DTEND:20260429T170000Z
SUMMARY:Visitation
DESCRIPTION:
URL:https://www.samaritanfunerals.com/obituaries/billie-fuller-stanford
LOCATION: 2425 Wabash Avenue  Terre Haute IN 47807
GEO:39.4704807;-87.3793708
END:VEVENT
END:VCALENDAR