BEGIN:VCALENDAR
VERSION:2.0
PRODID:-//Tukios.com/
BEGIN:VEVENT
UID:4676373c-2ae5-496a-9949-2e473cf9b22d@www.samaritanfunerals.com
DTSTAMP:20260422T233257Z
DTSTART:20260429T170000Z
DTEND:20260429T180000Z
SUMMARY:Funeral Service
DESCRIPTION:
URL:https://www.samaritanfunerals.com/obituaries/billie-fuller-stanford
LOCATION: 2425 Wabash Avenue  Terre Haute IN 47807
GEO:39.4704807;-87.3793708
END:VEVENT
END:VCALENDAR